BEGIN:VCALENDAR
VERSION:2.0
PRODID:-//The Quilt Basket - ECPv6.15.17//NONSGML v1.0//EN
CALSCALE:GREGORIAN
METHOD:PUBLISH
X-WR-CALNAME:The Quilt Basket
X-ORIGINAL-URL:https://thequiltbasket-york.com
X-WR-CALDESC:Events for The Quilt Basket
REFRESH-INTERVAL;VALUE=DURATION:PT1H
X-Robots-Tag:noindex
X-PUBLISHED-TTL:PT1H
BEGIN:VTIMEZONE
TZID:America/Chicago
BEGIN:DAYLIGHT
TZOFFSETFROM:-0600
TZOFFSETTO:-0500
TZNAME:CDT
DTSTART:20230312T080000
END:DAYLIGHT
BEGIN:STANDARD
TZOFFSETFROM:-0500
TZOFFSETTO:-0600
TZNAME:CST
DTSTART:20231105T070000
END:STANDARD
BEGIN:DAYLIGHT
TZOFFSETFROM:-0600
TZOFFSETTO:-0500
TZNAME:CDT
DTSTART:20240310T080000
END:DAYLIGHT
BEGIN:STANDARD
TZOFFSETFROM:-0500
TZOFFSETTO:-0600
TZNAME:CST
DTSTART:20241103T070000
END:STANDARD
BEGIN:DAYLIGHT
TZOFFSETFROM:-0600
TZOFFSETTO:-0500
TZNAME:CDT
DTSTART:20250309T080000
END:DAYLIGHT
BEGIN:STANDARD
TZOFFSETFROM:-0500
TZOFFSETTO:-0600
TZNAME:CST
DTSTART:20251102T070000
END:STANDARD
BEGIN:DAYLIGHT
TZOFFSETFROM:-0600
TZOFFSETTO:-0500
TZNAME:CDT
DTSTART:20260308T080000
END:DAYLIGHT
BEGIN:STANDARD
TZOFFSETFROM:-0500
TZOFFSETTO:-0600
TZNAME:CST
DTSTART:20261101T070000
END:STANDARD
END:VTIMEZONE
BEGIN:VEVENT
DTSTART;TZID=America/Chicago:20250224T100000
DTEND;TZID=America/Chicago:20250224T170000
DTSTAMP:20260424T105906
CREATED:20260306T183744Z
LAST-MODIFIED:20260306T183744Z
UID:10000703-1740391200-1740416400@thequiltbasket-york.com
SUMMARY:Open Sew
DESCRIPTION:The Quilt Basket classroom is available on Monday’s from 10-5. Join your friends and work on those projects that you haven’t quite finished. Call ahead to reserve a machine or bring your own.
URL:https://thequiltbasket-york.com/event/open-sew/2025-02-24/
LOCATION:The Quilt Basket\, 718 N Lincoln Ave\, York\, NE\, 68467\, United States
CATEGORIES:Sewing
END:VEVENT
BEGIN:VEVENT
DTSTART;TZID=America/Chicago:20250217T100000
DTEND;TZID=America/Chicago:20250217T170000
DTSTAMP:20260424T105906
CREATED:20220618T042121Z
LAST-MODIFIED:20260306T182445Z
UID:10000552-1739786400-1739811600@thequiltbasket-york.com
SUMMARY:Open Sew
DESCRIPTION:The Quilt Basket classroom is available on Monday’s from 10-5. Join your friends and work on those projects that you haven’t quite finished. Call ahead to reserve a machine or bring your own.
URL:https://thequiltbasket-york.com/event/open-sew/2025-02-17/
LOCATION:The Quilt Basket\, 718 N Lincoln Ave\, York\, NE\, 68467\, United States
CATEGORIES:Sewing
END:VEVENT
BEGIN:VEVENT
DTSTART;TZID=America/Chicago:20250210T100000
DTEND;TZID=America/Chicago:20250210T170000
DTSTAMP:20260424T105906
CREATED:20260306T183744Z
LAST-MODIFIED:20260306T183744Z
UID:10000628-1739181600-1739206800@thequiltbasket-york.com
SUMMARY:Open Sew
DESCRIPTION:The Quilt Basket classroom is available on Monday’s from 10-5. Join your friends and work on those projects that you haven’t quite finished. Call ahead to reserve a machine or bring your own.
URL:https://thequiltbasket-york.com/event/open-sew/2025-02-10/
LOCATION:The Quilt Basket\, 718 N Lincoln Ave\, York\, NE\, 68467\, United States
CATEGORIES:Sewing
END:VEVENT
BEGIN:VEVENT
DTSTART;TZID=America/Chicago:20250203T080000
DTEND;TZID=America/Chicago:20250203T170000
DTSTAMP:20260424T105906
CREATED:20260306T183743Z
LAST-MODIFIED:20260306T183743Z
UID:10000481-1738569600-1738602000@thequiltbasket-york.com
SUMMARY:Open Sew
DESCRIPTION:The Quilt Basket classroom is available on Monday’s from 10-5. Join your friends and work on those projects that you haven’t quite finished. Call ahead to reserve a machine or bring your own.
URL:https://thequiltbasket-york.com/event/open-sew/2025-02-03/
LOCATION:The Quilt Basket\, 718 N Lincoln Ave\, York\, NE\, 68467\, United States
CATEGORIES:Sewing
END:VEVENT
BEGIN:VEVENT
DTSTART;TZID=America/Chicago:20250127T100000
DTEND;TZID=America/Chicago:20250127T170000
DTSTAMP:20260424T105906
CREATED:20260306T183744Z
LAST-MODIFIED:20260306T183744Z
UID:10000702-1737972000-1737997200@thequiltbasket-york.com
SUMMARY:Open Sew
DESCRIPTION:The Quilt Basket classroom is available on Monday’s from 10-5. Join your friends and work on those projects that you haven’t quite finished. Call ahead to reserve a machine or bring your own.
URL:https://thequiltbasket-york.com/event/open-sew/2025-01-27/
LOCATION:The Quilt Basket\, 718 N Lincoln Ave\, York\, NE\, 68467\, United States
CATEGORIES:Sewing
END:VEVENT
BEGIN:VEVENT
DTSTART;TZID=America/Chicago:20250120T100000
DTEND;TZID=America/Chicago:20250120T170000
DTSTAMP:20260424T105906
CREATED:20220618T042121Z
LAST-MODIFIED:20260306T182445Z
UID:10000551-1737367200-1737392400@thequiltbasket-york.com
SUMMARY:Open Sew
DESCRIPTION:The Quilt Basket classroom is available on Monday’s from 10-5. Join your friends and work on those projects that you haven’t quite finished. Call ahead to reserve a machine or bring your own.
URL:https://thequiltbasket-york.com/event/open-sew/2025-01-20/
LOCATION:The Quilt Basket\, 718 N Lincoln Ave\, York\, NE\, 68467\, United States
CATEGORIES:Sewing
END:VEVENT
BEGIN:VEVENT
DTSTART;TZID=America/Chicago:20250113T100000
DTEND;TZID=America/Chicago:20250113T170000
DTSTAMP:20260424T105906
CREATED:20260306T183744Z
LAST-MODIFIED:20260306T183744Z
UID:10000627-1736762400-1736787600@thequiltbasket-york.com
SUMMARY:Open Sew
DESCRIPTION:The Quilt Basket classroom is available on Monday’s from 10-5. Join your friends and work on those projects that you haven’t quite finished. Call ahead to reserve a machine or bring your own.
URL:https://thequiltbasket-york.com/event/open-sew/2025-01-13/
LOCATION:The Quilt Basket\, 718 N Lincoln Ave\, York\, NE\, 68467\, United States
CATEGORIES:Sewing
END:VEVENT
BEGIN:VEVENT
DTSTART;TZID=America/Chicago:20250106T080000
DTEND;TZID=America/Chicago:20250106T170000
DTSTAMP:20260424T105906
CREATED:20260306T183743Z
LAST-MODIFIED:20260306T183743Z
UID:10000480-1736150400-1736182800@thequiltbasket-york.com
SUMMARY:Open Sew
DESCRIPTION:The Quilt Basket classroom is available on Monday’s from 10-5. Join your friends and work on those projects that you haven’t quite finished. Call ahead to reserve a machine or bring your own.
URL:https://thequiltbasket-york.com/event/open-sew/2025-01-06/
LOCATION:The Quilt Basket\, 718 N Lincoln Ave\, York\, NE\, 68467\, United States
CATEGORIES:Sewing
END:VEVENT
BEGIN:VEVENT
DTSTART;TZID=America/Chicago:20241230T100000
DTEND;TZID=America/Chicago:20241230T170000
DTSTAMP:20260424T105906
CREATED:20260306T183744Z
LAST-MODIFIED:20260306T183744Z
UID:10000757-1735552800-1735578000@thequiltbasket-york.com
SUMMARY:Open Sew
DESCRIPTION:The Quilt Basket classroom is available on Monday’s from 10-5. Join your friends and work on those projects that you haven’t quite finished. Call ahead to reserve a machine or bring your own.
URL:https://thequiltbasket-york.com/event/open-sew/2024-12-30/
LOCATION:The Quilt Basket\, 718 N Lincoln Ave\, York\, NE\, 68467\, United States
CATEGORIES:Sewing
END:VEVENT
BEGIN:VEVENT
DTSTART;TZID=America/Chicago:20241223T100000
DTEND;TZID=America/Chicago:20241223T170000
DTSTAMP:20260424T105906
CREATED:20260306T183744Z
LAST-MODIFIED:20260306T183744Z
UID:10000701-1734948000-1734973200@thequiltbasket-york.com
SUMMARY:Open Sew
DESCRIPTION:The Quilt Basket classroom is available on Monday’s from 10-5. Join your friends and work on those projects that you haven’t quite finished. Call ahead to reserve a machine or bring your own.
URL:https://thequiltbasket-york.com/event/open-sew/2024-12-23/
LOCATION:The Quilt Basket\, 718 N Lincoln Ave\, York\, NE\, 68467\, United States
CATEGORIES:Sewing
END:VEVENT
BEGIN:VEVENT
DTSTART;TZID=America/Chicago:20241216T100000
DTEND;TZID=America/Chicago:20241216T170000
DTSTAMP:20260424T105906
CREATED:20220618T042121Z
LAST-MODIFIED:20260306T182445Z
UID:10000550-1734343200-1734368400@thequiltbasket-york.com
SUMMARY:Open Sew
DESCRIPTION:The Quilt Basket classroom is available on Monday’s from 10-5. Join your friends and work on those projects that you haven’t quite finished. Call ahead to reserve a machine or bring your own.
URL:https://thequiltbasket-york.com/event/open-sew/2024-12-16/
LOCATION:The Quilt Basket\, 718 N Lincoln Ave\, York\, NE\, 68467\, United States
CATEGORIES:Sewing
END:VEVENT
BEGIN:VEVENT
DTSTART;TZID=America/Chicago:20241209T100000
DTEND;TZID=America/Chicago:20241209T170000
DTSTAMP:20260424T105906
CREATED:20260306T183744Z
LAST-MODIFIED:20260306T183744Z
UID:10000626-1733738400-1733763600@thequiltbasket-york.com
SUMMARY:Open Sew
DESCRIPTION:The Quilt Basket classroom is available on Monday’s from 10-5. Join your friends and work on those projects that you haven’t quite finished. Call ahead to reserve a machine or bring your own.
URL:https://thequiltbasket-york.com/event/open-sew/2024-12-09/
LOCATION:The Quilt Basket\, 718 N Lincoln Ave\, York\, NE\, 68467\, United States
CATEGORIES:Sewing
END:VEVENT
BEGIN:VEVENT
DTSTART;TZID=America/Chicago:20241202T080000
DTEND;TZID=America/Chicago:20241202T170000
DTSTAMP:20260424T105906
CREATED:20260306T183743Z
LAST-MODIFIED:20260306T183743Z
UID:10000479-1733126400-1733158800@thequiltbasket-york.com
SUMMARY:Open Sew
DESCRIPTION:The Quilt Basket classroom is available on Monday’s from 10-5. Join your friends and work on those projects that you haven’t quite finished. Call ahead to reserve a machine or bring your own.
URL:https://thequiltbasket-york.com/event/open-sew/2024-12-02/
LOCATION:The Quilt Basket\, 718 N Lincoln Ave\, York\, NE\, 68467\, United States
CATEGORIES:Sewing
END:VEVENT
BEGIN:VEVENT
DTSTART;TZID=America/Chicago:20241125T100000
DTEND;TZID=America/Chicago:20241125T170000
DTSTAMP:20260424T105906
CREATED:20260306T183744Z
LAST-MODIFIED:20260306T183744Z
UID:10000700-1732528800-1732554000@thequiltbasket-york.com
SUMMARY:Open Sew
DESCRIPTION:The Quilt Basket classroom is available on Monday’s from 10-5. Join your friends and work on those projects that you haven’t quite finished. Call ahead to reserve a machine or bring your own.
URL:https://thequiltbasket-york.com/event/open-sew/2024-11-25/
LOCATION:The Quilt Basket\, 718 N Lincoln Ave\, York\, NE\, 68467\, United States
CATEGORIES:Sewing
END:VEVENT
BEGIN:VEVENT
DTSTART;TZID=America/Chicago:20241118T100000
DTEND;TZID=America/Chicago:20241118T170000
DTSTAMP:20260424T105906
CREATED:20220618T042121Z
LAST-MODIFIED:20260306T182445Z
UID:10000549-1731924000-1731949200@thequiltbasket-york.com
SUMMARY:Open Sew
DESCRIPTION:The Quilt Basket classroom is available on Monday’s from 10-5. Join your friends and work on those projects that you haven’t quite finished. Call ahead to reserve a machine or bring your own.
URL:https://thequiltbasket-york.com/event/open-sew/2024-11-18/
LOCATION:The Quilt Basket\, 718 N Lincoln Ave\, York\, NE\, 68467\, United States
CATEGORIES:Sewing
END:VEVENT
BEGIN:VEVENT
DTSTART;TZID=America/Chicago:20241111T100000
DTEND;TZID=America/Chicago:20241111T170000
DTSTAMP:20260424T105906
CREATED:20260306T183744Z
LAST-MODIFIED:20260306T183744Z
UID:10000625-1731319200-1731344400@thequiltbasket-york.com
SUMMARY:Open Sew
DESCRIPTION:The Quilt Basket classroom is available on Monday’s from 10-5. Join your friends and work on those projects that you haven’t quite finished. Call ahead to reserve a machine or bring your own.
URL:https://thequiltbasket-york.com/event/open-sew/2024-11-11/
LOCATION:The Quilt Basket\, 718 N Lincoln Ave\, York\, NE\, 68467\, United States
CATEGORIES:Sewing
END:VEVENT
BEGIN:VEVENT
DTSTART;TZID=America/Chicago:20241104T080000
DTEND;TZID=America/Chicago:20241104T170000
DTSTAMP:20260424T105906
CREATED:20260306T183743Z
LAST-MODIFIED:20260306T183743Z
UID:10000478-1730707200-1730739600@thequiltbasket-york.com
SUMMARY:Open Sew
DESCRIPTION:The Quilt Basket classroom is available on Monday’s from 10-5. Join your friends and work on those projects that you haven’t quite finished. Call ahead to reserve a machine or bring your own.
URL:https://thequiltbasket-york.com/event/open-sew/2024-11-04/
LOCATION:The Quilt Basket\, 718 N Lincoln Ave\, York\, NE\, 68467\, United States
CATEGORIES:Sewing
END:VEVENT
BEGIN:VEVENT
DTSTART;TZID=America/Chicago:20241028T100000
DTEND;TZID=America/Chicago:20241028T170000
DTSTAMP:20260424T105906
CREATED:20260306T183744Z
LAST-MODIFIED:20260306T183744Z
UID:10000699-1730109600-1730134800@thequiltbasket-york.com
SUMMARY:Open Sew
DESCRIPTION:The Quilt Basket classroom is available on Monday’s from 10-5. Join your friends and work on those projects that you haven’t quite finished. Call ahead to reserve a machine or bring your own.
URL:https://thequiltbasket-york.com/event/open-sew/2024-10-28/
LOCATION:The Quilt Basket\, 718 N Lincoln Ave\, York\, NE\, 68467\, United States
CATEGORIES:Sewing
END:VEVENT
BEGIN:VEVENT
DTSTART;TZID=America/Chicago:20241021T100000
DTEND;TZID=America/Chicago:20241021T170000
DTSTAMP:20260424T105906
CREATED:20220618T042121Z
LAST-MODIFIED:20260306T182445Z
UID:10000548-1729504800-1729530000@thequiltbasket-york.com
SUMMARY:Open Sew
DESCRIPTION:The Quilt Basket classroom is available on Monday’s from 10-5. Join your friends and work on those projects that you haven’t quite finished. Call ahead to reserve a machine or bring your own.
URL:https://thequiltbasket-york.com/event/open-sew/2024-10-21/
LOCATION:The Quilt Basket\, 718 N Lincoln Ave\, York\, NE\, 68467\, United States
CATEGORIES:Sewing
END:VEVENT
BEGIN:VEVENT
DTSTART;TZID=America/Chicago:20241014T100000
DTEND;TZID=America/Chicago:20241014T170000
DTSTAMP:20260424T105906
CREATED:20260306T183744Z
LAST-MODIFIED:20260306T183744Z
UID:10000624-1728900000-1728925200@thequiltbasket-york.com
SUMMARY:Open Sew
DESCRIPTION:The Quilt Basket classroom is available on Monday’s from 10-5. Join your friends and work on those projects that you haven’t quite finished. Call ahead to reserve a machine or bring your own.
URL:https://thequiltbasket-york.com/event/open-sew/2024-10-14/
LOCATION:The Quilt Basket\, 718 N Lincoln Ave\, York\, NE\, 68467\, United States
CATEGORIES:Sewing
END:VEVENT
BEGIN:VEVENT
DTSTART;TZID=America/Chicago:20241007T080000
DTEND;TZID=America/Chicago:20241007T170000
DTSTAMP:20260424T105906
CREATED:20260306T183743Z
LAST-MODIFIED:20260306T183743Z
UID:10000477-1728288000-1728320400@thequiltbasket-york.com
SUMMARY:Open Sew
DESCRIPTION:The Quilt Basket classroom is available on Monday’s from 10-5. Join your friends and work on those projects that you haven’t quite finished. Call ahead to reserve a machine or bring your own.
URL:https://thequiltbasket-york.com/event/open-sew/2024-10-07/
LOCATION:The Quilt Basket\, 718 N Lincoln Ave\, York\, NE\, 68467\, United States
CATEGORIES:Sewing
END:VEVENT
BEGIN:VEVENT
DTSTART;TZID=America/Chicago:20240930T100000
DTEND;TZID=America/Chicago:20240930T170000
DTSTAMP:20260424T105906
CREATED:20260306T183744Z
LAST-MODIFIED:20260306T183744Z
UID:10000756-1727690400-1727715600@thequiltbasket-york.com
SUMMARY:Open Sew
DESCRIPTION:The Quilt Basket classroom is available on Monday’s from 10-5. Join your friends and work on those projects that you haven’t quite finished. Call ahead to reserve a machine or bring your own.
URL:https://thequiltbasket-york.com/event/open-sew/2024-09-30/
LOCATION:The Quilt Basket\, 718 N Lincoln Ave\, York\, NE\, 68467\, United States
CATEGORIES:Sewing
END:VEVENT
BEGIN:VEVENT
DTSTART;TZID=America/Chicago:20240923T100000
DTEND;TZID=America/Chicago:20240923T170000
DTSTAMP:20260424T105906
CREATED:20260306T183744Z
LAST-MODIFIED:20260306T183744Z
UID:10000698-1727085600-1727110800@thequiltbasket-york.com
SUMMARY:Open Sew
DESCRIPTION:The Quilt Basket classroom is available on Monday’s from 10-5. Join your friends and work on those projects that you haven’t quite finished. Call ahead to reserve a machine or bring your own.
URL:https://thequiltbasket-york.com/event/open-sew/2024-09-23/
LOCATION:The Quilt Basket\, 718 N Lincoln Ave\, York\, NE\, 68467\, United States
CATEGORIES:Sewing
END:VEVENT
BEGIN:VEVENT
DTSTART;TZID=America/Chicago:20240916T100000
DTEND;TZID=America/Chicago:20240916T170000
DTSTAMP:20260424T105906
CREATED:20220618T042121Z
LAST-MODIFIED:20260306T182445Z
UID:10000547-1726480800-1726506000@thequiltbasket-york.com
SUMMARY:Open Sew
DESCRIPTION:The Quilt Basket classroom is available on Monday’s from 10-5. Join your friends and work on those projects that you haven’t quite finished. Call ahead to reserve a machine or bring your own.
URL:https://thequiltbasket-york.com/event/open-sew/2024-09-16/
LOCATION:The Quilt Basket\, 718 N Lincoln Ave\, York\, NE\, 68467\, United States
CATEGORIES:Sewing
END:VEVENT
BEGIN:VEVENT
DTSTART;TZID=America/Chicago:20240909T100000
DTEND;TZID=America/Chicago:20240909T170000
DTSTAMP:20260424T105906
CREATED:20260306T183744Z
LAST-MODIFIED:20260306T183744Z
UID:10000623-1725876000-1725901200@thequiltbasket-york.com
SUMMARY:Open Sew
DESCRIPTION:The Quilt Basket classroom is available on Monday’s from 10-5. Join your friends and work on those projects that you haven’t quite finished. Call ahead to reserve a machine or bring your own.
URL:https://thequiltbasket-york.com/event/open-sew/2024-09-09/
LOCATION:The Quilt Basket\, 718 N Lincoln Ave\, York\, NE\, 68467\, United States
CATEGORIES:Sewing
END:VEVENT
BEGIN:VEVENT
DTSTART;TZID=America/Chicago:20240902T080000
DTEND;TZID=America/Chicago:20240902T170000
DTSTAMP:20260424T105906
CREATED:20260306T183743Z
LAST-MODIFIED:20260306T183743Z
UID:10000476-1725264000-1725296400@thequiltbasket-york.com
SUMMARY:Open Sew
DESCRIPTION:The Quilt Basket classroom is available on Monday’s from 10-5. Join your friends and work on those projects that you haven’t quite finished. Call ahead to reserve a machine or bring your own.
URL:https://thequiltbasket-york.com/event/open-sew/2024-09-02/
LOCATION:The Quilt Basket\, 718 N Lincoln Ave\, York\, NE\, 68467\, United States
CATEGORIES:Sewing
END:VEVENT
BEGIN:VEVENT
DTSTART;TZID=America/Chicago:20240826T100000
DTEND;TZID=America/Chicago:20240826T170000
DTSTAMP:20260424T105906
CREATED:20260306T183744Z
LAST-MODIFIED:20260306T183744Z
UID:10000697-1724666400-1724691600@thequiltbasket-york.com
SUMMARY:Open Sew
DESCRIPTION:The Quilt Basket classroom is available on Monday’s from 10-5. Join your friends and work on those projects that you haven’t quite finished. Call ahead to reserve a machine or bring your own.
URL:https://thequiltbasket-york.com/event/open-sew/2024-08-26/
LOCATION:The Quilt Basket\, 718 N Lincoln Ave\, York\, NE\, 68467\, United States
CATEGORIES:Sewing
END:VEVENT
BEGIN:VEVENT
DTSTART;TZID=America/Chicago:20240819T100000
DTEND;TZID=America/Chicago:20240819T170000
DTSTAMP:20260424T105906
CREATED:20220618T042121Z
LAST-MODIFIED:20260306T182445Z
UID:10000546-1724061600-1724086800@thequiltbasket-york.com
SUMMARY:Open Sew
DESCRIPTION:The Quilt Basket classroom is available on Monday’s from 10-5. Join your friends and work on those projects that you haven’t quite finished. Call ahead to reserve a machine or bring your own.
URL:https://thequiltbasket-york.com/event/open-sew/2024-08-19/
LOCATION:The Quilt Basket\, 718 N Lincoln Ave\, York\, NE\, 68467\, United States
CATEGORIES:Sewing
END:VEVENT
BEGIN:VEVENT
DTSTART;TZID=America/Chicago:20240812T100000
DTEND;TZID=America/Chicago:20240812T170000
DTSTAMP:20260424T105906
CREATED:20260306T183744Z
LAST-MODIFIED:20260306T183744Z
UID:10000622-1723456800-1723482000@thequiltbasket-york.com
SUMMARY:Open Sew
DESCRIPTION:The Quilt Basket classroom is available on Monday’s from 10-5. Join your friends and work on those projects that you haven’t quite finished. Call ahead to reserve a machine or bring your own.
URL:https://thequiltbasket-york.com/event/open-sew/2024-08-12/
LOCATION:The Quilt Basket\, 718 N Lincoln Ave\, York\, NE\, 68467\, United States
CATEGORIES:Sewing
END:VEVENT
BEGIN:VEVENT
DTSTART;TZID=America/Chicago:20240805T080000
DTEND;TZID=America/Chicago:20240805T170000
DTSTAMP:20260424T105906
CREATED:20260306T183743Z
LAST-MODIFIED:20260306T183743Z
UID:10000475-1722844800-1722877200@thequiltbasket-york.com
SUMMARY:Open Sew
DESCRIPTION:The Quilt Basket classroom is available on Monday’s from 10-5. Join your friends and work on those projects that you haven’t quite finished. Call ahead to reserve a machine or bring your own.
URL:https://thequiltbasket-york.com/event/open-sew/2024-08-05/
LOCATION:The Quilt Basket\, 718 N Lincoln Ave\, York\, NE\, 68467\, United States
CATEGORIES:Sewing
END:VEVENT
END:VCALENDAR