BEGIN:VCALENDAR
VERSION:2.0
PRODID:-//The Quilt Basket - ECPv6.15.17//NONSGML v1.0//EN
CALSCALE:GREGORIAN
METHOD:PUBLISH
X-WR-CALNAME:The Quilt Basket
X-ORIGINAL-URL:https://thequiltbasket-york.com
X-WR-CALDESC:Events for The Quilt Basket
REFRESH-INTERVAL;VALUE=DURATION:PT1H
X-Robots-Tag:noindex
X-PUBLISHED-TTL:PT1H
BEGIN:VTIMEZONE
TZID:America/Chicago
BEGIN:DAYLIGHT
TZOFFSETFROM:-0600
TZOFFSETTO:-0500
TZNAME:CDT
DTSTART:20270314T080000
END:DAYLIGHT
BEGIN:STANDARD
TZOFFSETFROM:-0500
TZOFFSETTO:-0600
TZNAME:CST
DTSTART:20271107T070000
END:STANDARD
BEGIN:DAYLIGHT
TZOFFSETFROM:-0600
TZOFFSETTO:-0500
TZNAME:CDT
DTSTART:20280312T080000
END:DAYLIGHT
BEGIN:STANDARD
TZOFFSETFROM:-0500
TZOFFSETTO:-0600
TZNAME:CST
DTSTART:20281105T070000
END:STANDARD
BEGIN:DAYLIGHT
TZOFFSETFROM:-0600
TZOFFSETTO:-0500
TZNAME:CDT
DTSTART:20290311T080000
END:DAYLIGHT
BEGIN:STANDARD
TZOFFSETFROM:-0500
TZOFFSETTO:-0600
TZNAME:CST
DTSTART:20291104T070000
END:STANDARD
END:VTIMEZONE
BEGIN:VEVENT
DTSTART;TZID=America/Chicago:20280131T100000
DTEND;TZID=America/Chicago:20280131T170000
DTSTAMP:20260425T055840
CREATED:20260306T183744Z
LAST-MODIFIED:20260306T183744Z
UID:10000770-1832925600-1832950800@thequiltbasket-york.com
SUMMARY:Open Sew
DESCRIPTION:The Quilt Basket classroom is available on Monday’s from 10-5. Join your friends and work on those projects that you haven’t quite finished. Call ahead to reserve a machine or bring your own.
URL:https://thequiltbasket-york.com/event/open-sew/2028-01-31/
LOCATION:The Quilt Basket\, 718 N Lincoln Ave\, York\, NE\, 68467\, United States
CATEGORIES:Sewing
END:VEVENT
BEGIN:VEVENT
DTSTART;TZID=America/Chicago:20280207T080000
DTEND;TZID=America/Chicago:20280207T170000
DTSTAMP:20260425T055840
CREATED:20260306T183743Z
LAST-MODIFIED:20260306T183743Z
UID:10000517-1833523200-1833555600@thequiltbasket-york.com
SUMMARY:Open Sew
DESCRIPTION:The Quilt Basket classroom is available on Monday’s from 10-5. Join your friends and work on those projects that you haven’t quite finished. Call ahead to reserve a machine or bring your own.
URL:https://thequiltbasket-york.com/event/open-sew/2028-02-07/
LOCATION:The Quilt Basket\, 718 N Lincoln Ave\, York\, NE\, 68467\, United States
CATEGORIES:Sewing
END:VEVENT
BEGIN:VEVENT
DTSTART;TZID=America/Chicago:20280214T100000
DTEND;TZID=America/Chicago:20280214T170000
DTSTAMP:20260425T055840
CREATED:20260306T183744Z
LAST-MODIFIED:20260306T183744Z
UID:10000664-1834135200-1834160400@thequiltbasket-york.com
SUMMARY:Open Sew
DESCRIPTION:The Quilt Basket classroom is available on Monday’s from 10-5. Join your friends and work on those projects that you haven’t quite finished. Call ahead to reserve a machine or bring your own.
URL:https://thequiltbasket-york.com/event/open-sew/2028-02-14/
LOCATION:The Quilt Basket\, 718 N Lincoln Ave\, York\, NE\, 68467\, United States
CATEGORIES:Sewing
END:VEVENT
BEGIN:VEVENT
DTSTART;TZID=America/Chicago:20280221T100000
DTEND;TZID=America/Chicago:20280221T170000
DTSTAMP:20260425T055840
CREATED:20220618T042121Z
LAST-MODIFIED:20260306T182445Z
UID:10000588-1834740000-1834765200@thequiltbasket-york.com
SUMMARY:Open Sew
DESCRIPTION:The Quilt Basket classroom is available on Monday’s from 10-5. Join your friends and work on those projects that you haven’t quite finished. Call ahead to reserve a machine or bring your own.
URL:https://thequiltbasket-york.com/event/open-sew/2028-02-21/
LOCATION:The Quilt Basket\, 718 N Lincoln Ave\, York\, NE\, 68467\, United States
CATEGORIES:Sewing
END:VEVENT
BEGIN:VEVENT
DTSTART;TZID=America/Chicago:20280228T100000
DTEND;TZID=America/Chicago:20280228T170000
DTSTAMP:20260425T055840
CREATED:20260306T183744Z
LAST-MODIFIED:20260306T183744Z
UID:10000739-1835344800-1835370000@thequiltbasket-york.com
SUMMARY:Open Sew
DESCRIPTION:The Quilt Basket classroom is available on Monday’s from 10-5. Join your friends and work on those projects that you haven’t quite finished. Call ahead to reserve a machine or bring your own.
URL:https://thequiltbasket-york.com/event/open-sew/2028-02-28/
LOCATION:The Quilt Basket\, 718 N Lincoln Ave\, York\, NE\, 68467\, United States
CATEGORIES:Sewing
END:VEVENT
BEGIN:VEVENT
DTSTART;TZID=America/Chicago:20280306T080000
DTEND;TZID=America/Chicago:20280306T170000
DTSTAMP:20260425T055840
CREATED:20260306T183743Z
LAST-MODIFIED:20260306T183743Z
UID:10000518-1835942400-1835974800@thequiltbasket-york.com
SUMMARY:Open Sew
DESCRIPTION:The Quilt Basket classroom is available on Monday’s from 10-5. Join your friends and work on those projects that you haven’t quite finished. Call ahead to reserve a machine or bring your own.
URL:https://thequiltbasket-york.com/event/open-sew/2028-03-06/
LOCATION:The Quilt Basket\, 718 N Lincoln Ave\, York\, NE\, 68467\, United States
CATEGORIES:Sewing
END:VEVENT
END:VCALENDAR